BEGIN:VCALENDAR
VERSION:2.0
PRODID:gruene-saar.de
METHOD:PUBLISH
BEGIN:VTIMEZONE
TZID:Europe/Berlin
X-LIC-LOCATION:Europe/Berlin
BEGIN:DAYLIGHT
TZOFFSETFROM:+0100
TZOFFSETTO:+0200
TZNAME:CEST
DTSTART:19700329T020000
RRULE:FREQ=YEARLY;INTERVAL=1;BYDAY=-1SU;BYMONTH=3
END:DAYLIGHT
BEGIN:STANDARD
TZOFFSETFROM:+0200
TZOFFSETTO:+0100
TZNAME:CET
DTSTART:19701025T030000
RRULE:FREQ=YEARLY;INTERVAL=1;BYDAY=-1SU;BYMONTH=10
END:STANDARD
END:VTIMEZONE
BEGIN:VEVENT
UID:7eb42929fcc027fa9dc9cbf4e6f5d4ec@gruene-saar.de
URL;VALUE=URI:https://gruene-saar.de/termine/lag-tierschutz-2/
LOCATION:
SUMMARY:LAG Tierschutz
DESCRIPTION;ALTREP="data:text/html,%0A%3Cp%3ETermin%3A%2010.%20September%
 202025%3Cbr%3EUhrzeit%3A%2019%3A00%20Uhr%3Cbr%3EOrt%3A%20Im%20Wieschen%20
 9%2C%2066424%20Homburg%3C%2Fp%3E%0A":Termin: 10. September 2025Uhrzeit: 1
 9:00 UhrOrt: Im Wieschen 9\, 66424 Homburg
CLASS:PUBLIC
DTSTART;TZID=Europe/Berlin:20250910T190000
DTEND;TZID=Europe/Berlin:20250910T200000
DTSTAMP:20260421T201927
END:VEVENT
END:VCALENDAR