BEGIN:VCALENDAR
VERSION:2.0
PRODID:gruene-saar.de
METHOD:PUBLISH
BEGIN:VTIMEZONE
TZID:Europe/Berlin
X-LIC-LOCATION:Europe/Berlin
BEGIN:DAYLIGHT
TZOFFSETFROM:+0100
TZOFFSETTO:+0200
TZNAME:CEST
DTSTART:19700329T020000
RRULE:FREQ=YEARLY;INTERVAL=1;BYDAY=-1SU;BYMONTH=3
END:DAYLIGHT
BEGIN:STANDARD
TZOFFSETFROM:+0200
TZOFFSETTO:+0100
TZNAME:CET
DTSTART:19701025T030000
RRULE:FREQ=YEARLY;INTERVAL=1;BYDAY=-1SU;BYMONTH=10
END:STANDARD
END:VTIMEZONE
BEGIN:VEVENT
UID:9688d396dc7edd63eec26a26de224181@gruene-saar.de
URL;VALUE=URI:https://gruene-saar.de/termine/lag-tierschutz-3/
LOCATION:Landesgeschäftsstelle, Bahnhofstr. 36, Saarbrücken
SUMMARY:LAG Tierschutz
DESCRIPTION;ALTREP="data:text/html,%0A%3Cp%3EDas%20n%C3%A4chste%20Treffen
 %20der%20LAG%20Tierschutz%20findet%20am%2007.%20November%20um%2018%3A00%2
 0Uhr%20in%20der%20Landesgesch%C3%A4ftsstselle%20statt.%20Um%20Anmeldung%2
 0unter%3A%20%3Ca%20href%3D%22mailto%3ALAG_Tierschutz%40gruene-saar.de%22%
 3ELAG_Tierschutz%40gruene-saar.de%3C%2Fa%3E%20wird%20gebeten.%3C%2Fp%3E%0
 A":Das nächste Treffen der LAG Tierschutz findet am 07. November um 18:0
 0 Uhr in der Landesgeschäftsstselle statt. Um Anmeldung unter: LAG_Tiers
 chutz@gruene-saar.de wird gebeten.
CLASS:PUBLIC
DTSTART;TZID=Europe/Berlin:20251107T180000
DTEND;TZID=Europe/Berlin:20251107T190000
DTSTAMP:20260421T221801
END:VEVENT
END:VCALENDAR