BEGIN:VCALENDAR
VERSION:2.0
PRODID:gruene-saar.de
METHOD:PUBLISH
BEGIN:VTIMEZONE
TZID:Europe/Berlin
X-LIC-LOCATION:Europe/Berlin
BEGIN:DAYLIGHT
TZOFFSETFROM:+0100
TZOFFSETTO:+0200
TZNAME:CEST
DTSTART:19700329T020000
RRULE:FREQ=YEARLY;INTERVAL=1;BYDAY=-1SU;BYMONTH=3
END:DAYLIGHT
BEGIN:STANDARD
TZOFFSETFROM:+0200
TZOFFSETTO:+0100
TZNAME:CET
DTSTART:19701025T030000
RRULE:FREQ=YEARLY;INTERVAL=1;BYDAY=-1SU;BYMONTH=10
END:STANDARD
END:VTIMEZONE
BEGIN:VEVENT
UID:a4ea6e926b81a7557a0f1059d22f9880@gruene-saar.de
URL;VALUE=URI:https://gruene-saar.de/termine/lag-tierschutz-4/
LOCATION:
SUMMARY:LAG Tierschutz
DESCRIPTION;ALTREP="data:text/html,%0A%3Cp%3ETermin%3A%20Montag%2C%2009.%
 20M%C3%A4rz%202026%20%3Cbr%3EUhrzeit%3A%2018%3A00%20Uhr%20%3Cbr%3EOrt%3A%
 20LGS%3C%2Fp%3E%0A":Termin: Montag\, 09. März 2026 Uhrzeit: 18:00 Uhr Or
 t: LGS
CLASS:PUBLIC
DTSTART;TZID=Europe/Berlin:20260309T180000
DTEND;TZID=Europe/Berlin:20260309T190000
DTSTAMP:20260421T100530
END:VEVENT
END:VCALENDAR