BEGIN:VCALENDAR
VERSION:2.0
PRODID:gruene-saar.de
METHOD:PUBLISH
BEGIN:VTIMEZONE
TZID:Europe/Berlin
X-LIC-LOCATION:Europe/Berlin
BEGIN:DAYLIGHT
TZOFFSETFROM:+0100
TZOFFSETTO:+0200
TZNAME:CEST
DTSTART:19700329T020000
RRULE:FREQ=YEARLY;INTERVAL=1;BYDAY=-1SU;BYMONTH=3
END:DAYLIGHT
BEGIN:STANDARD
TZOFFSETFROM:+0200
TZOFFSETTO:+0100
TZNAME:CET
DTSTART:19701025T030000
RRULE:FREQ=YEARLY;INTERVAL=1;BYDAY=-1SU;BYMONTH=10
END:STANDARD
END:VTIMEZONE
BEGIN:VEVENT
UID:fbb1846533144b8215c1d93d73268e13@gruene-saar.de
URL;VALUE=URI:https://gruene-saar.de/termine/lag-verkehr-2/
LOCATION:Online via Zoom
SUMMARY:LAG Verkehr
DESCRIPTION;ALTREP="data:text/html,%0A%0A%0A%3Cp%3ETermin%3A%20Donnerstag
 %2024%20April%202025%2C%20Uhrzeit%3A%2018%20Uhr%3Cbr%3EOrt%3A%20Online%3C
 br%3EBitte%20vorher%20bei%20%3Ca%20href%3D%22mailto%3ALAG_Verkehr%40gruen
 e-saar.de%22%3ELAG_Verkehr%40gruene-saar.de%3C%2Fa%3E%20anmelden.%20Wir%2
 0versenden%20dann%20den%20Videolink.%3C%2Fp%3E%0A%0A%0A":Termin: Donnerst
 ag 24 April 2025\, Uhrzeit: 18 UhrOrt: OnlineBitte vorher bei LAG_Verkehr
 @gruene-saar.de anmelden. Wir versenden dann den Videolink.
CLASS:PUBLIC
DTSTART;TZID=Europe/Berlin:20250424T180000
DTEND;TZID=Europe/Berlin:20250424T190000
DTSTAMP:20260421T150724
END:VEVENT
END:VCALENDAR