BEGIN:VCALENDAR
VERSION:2.0
PRODID:gruene-saar.de
METHOD:PUBLISH
BEGIN:VTIMEZONE
TZID:Europe/Berlin
X-LIC-LOCATION:Europe/Berlin
BEGIN:DAYLIGHT
TZOFFSETFROM:+0100
TZOFFSETTO:+0200
TZNAME:CEST
DTSTART:19700329T020000
RRULE:FREQ=YEARLY;INTERVAL=1;BYDAY=-1SU;BYMONTH=3
END:DAYLIGHT
BEGIN:STANDARD
TZOFFSETFROM:+0200
TZOFFSETTO:+0100
TZNAME:CET
DTSTART:19701025T030000
RRULE:FREQ=YEARLY;INTERVAL=1;BYDAY=-1SU;BYMONTH=10
END:STANDARD
END:VTIMEZONE
BEGIN:VEVENT
UID:334e2b9d8d6f8ba2c71c33c05149e7f1@gruene-saar.de
URL;VALUE=URI:https://gruene-saar.de/termine/lag-wht-13/
LOCATION:
SUMMARY:LAG WHT
DESCRIPTION;ALTREP="data:text/html,%0A%3Cp%3ETermin%3A%20Mittwoch%2C%2017
 .%20September%202025%20%3Cbr%3EUhrzeit%3A%2019%20Uhr%20%3Cbr%3EOrt%3A%20G
 r%C3%BCner%20Raum%2C%20Cecilienstr.%2011%2C%2066111%20Saarbr%C3%BCcken%3C
 %2Fp%3E%0A":Termin: Mittwoch\, 17. September 2025 Uhrzeit: 19 Uhr Ort: Gr
 üner Raum\, Cecilienstr. 11\, 66111 Saarbrücken
CLASS:PUBLIC
DTSTART;TZID=Europe/Berlin:20250917T190000
DTEND;TZID=Europe/Berlin:20250917T200000
DTSTAMP:20260421T185536
END:VEVENT
END:VCALENDAR