BEGIN:VCALENDAR
VERSION:2.0
PRODID:gruene-saar.de
METHOD:PUBLISH
BEGIN:VTIMEZONE
TZID:Europe/Berlin
X-LIC-LOCATION:Europe/Berlin
BEGIN:DAYLIGHT
TZOFFSETFROM:+0100
TZOFFSETTO:+0200
TZNAME:CEST
DTSTART:19700329T020000
RRULE:FREQ=YEARLY;INTERVAL=1;BYDAY=-1SU;BYMONTH=3
END:DAYLIGHT
BEGIN:STANDARD
TZOFFSETFROM:+0200
TZOFFSETTO:+0100
TZNAME:CET
DTSTART:19701025T030000
RRULE:FREQ=YEARLY;INTERVAL=1;BYDAY=-1SU;BYMONTH=10
END:STANDARD
END:VTIMEZONE
BEGIN:VEVENT
UID:ce657abf70161021c1b0ecad4dca2fe3@gruene-saar.de
URL;VALUE=URI:https://gruene-saar.de/termine/lag-wht-9/
LOCATION:GRÜNER RAUM, Cecilienstraße 4, 66111 Saarbrücken
SUMMARY:LAG WHT
DESCRIPTION;ALTREP="data:text/html,%0A%3Cp%3ETreffen%20der%20Landesarbeit
 sgemeinschaft%20Wissenschaft-%2C%20Hochschul-%20und%20Technologiepolitik%
 20der%20Gr%C3%BCnen%20im%20Saarland.%3C%2Fp%3E%0A%3Cp%3ETermin%3A%20Donne
 rstag%2C%2030.01.2024%3C%2Fp%3E%0A%3Cp%3EUhrzeit%3A%2019%3A00%20Uhr%3C%2F
 p%3E%0A%3Cp%3EOrt%3A%20GR%C3%9CNER%20RAUM%3C%2Fp%3E%0A%3Cp%3ECecilienstra
 %C3%9Fe%204%2C%2066111%20Saarbr%C3%BCcken%3C%2Fp%3E%0A%3Cp%3EKontakt%3A%2
 6nbsp%3B%3Ca%20href%3D%22https%3A%2F%2Fgruene-saar.de%2Farbeitsgemeinscha
 ften-2%2F%23%22%3ELAG_Wissenschaft%40gruene-saar.de%3C%2Fa%3E%3C%2Fp%3E%0
 A%3Cp%3EUm%20Anmeldung%20wird%20gebeten.%3C%2Fp%3E%0A":Treffen der Landes
 arbeitsgemeinschaft Wissenschaft-\, Hochschul- und Technologiepolitik der
  Grünen im Saarland.\n\nTermin: Donnerstag\, 30.01.2024\n\nUhrzeit: 19:0
 0 Uhr\n\nOrt: GRÜNER RAUM\n\nCecilienstraße 4\, 66111 Saarbrücken\n\nK
 ontakt: LAG_Wissenschaft@gruene-saar.de\n\nUm Anmeldung wird gebeten.
CLASS:PUBLIC
DTSTART;TZID=Europe/Berlin:20250130T190000
DTEND;TZID=Europe/Berlin:20250130T210000
DTSTAMP:20260423T094816
END:VEVENT
END:VCALENDAR