BEGIN:VCALENDAR
VERSION:2.0
PRODID:gruene-saar.de
METHOD:PUBLISH
BEGIN:VTIMEZONE
TZID:Europe/Berlin
X-LIC-LOCATION:Europe/Berlin
BEGIN:DAYLIGHT
TZOFFSETFROM:+0100
TZOFFSETTO:+0200
TZNAME:CEST
DTSTART:19700329T020000
RRULE:FREQ=YEARLY;INTERVAL=1;BYDAY=-1SU;BYMONTH=3
END:DAYLIGHT
BEGIN:STANDARD
TZOFFSETFROM:+0200
TZOFFSETTO:+0100
TZNAME:CET
DTSTART:19701025T030000
RRULE:FREQ=YEARLY;INTERVAL=1;BYDAY=-1SU;BYMONTH=10
END:STANDARD
END:VTIMEZONE
BEGIN:VEVENT
UID:fafb0b4331289902a641b8a24f116e42@gruene-saar.de
URL;VALUE=URI:https://gruene-saar.de/termine/lag-wirtschaft-finanzen-2/
LOCATION:
SUMMARY:LAG Wirtschaft & Finanzen
DESCRIPTION;ALTREP="data:text/html,%0A%3Cp%3E%3Cstrong%3ELAG%20Sitzung%3C
 %2Fstrong%3E%3C%2Fp%3E%0A%0A%0A%0A%3Cp%3EBitte%20vormerken%21%3C%2Fp%3E%0
 A":LAG Sitzung\n\nBitte vormerken!
CLASS:PUBLIC
DTSTART;TZID=Europe/Berlin:20250327
DTEND;TZID=Europe/Berlin:20250328
DTSTAMP:20260421T133630
END:VEVENT
END:VCALENDAR