BEGIN:VCALENDAR
VERSION:2.0
PRODID:gruene-saar.de
METHOD:PUBLISH
BEGIN:VTIMEZONE
TZID:Europe/Berlin
X-LIC-LOCATION:Europe/Berlin
BEGIN:DAYLIGHT
TZOFFSETFROM:+0100
TZOFFSETTO:+0200
TZNAME:CEST
DTSTART:19700329T020000
RRULE:FREQ=YEARLY;INTERVAL=1;BYDAY=-1SU;BYMONTH=3
END:DAYLIGHT
BEGIN:STANDARD
TZOFFSETFROM:+0200
TZOFFSETTO:+0100
TZNAME:CET
DTSTART:19701025T030000
RRULE:FREQ=YEARLY;INTERVAL=1;BYDAY=-1SU;BYMONTH=10
END:STANDARD
END:VTIMEZONE
BEGIN:VEVENT
UID:49e1cd454f874da7a4c4dc3d6b73e89f@gruene-saar.de
URL;VALUE=URI:https://gruene-saar.de/termine/lag-wirtschaft-und-finanzen-
 2/
LOCATION:
SUMMARY:LAG Wirtschaft und Finanzen
DESCRIPTION;ALTREP="data:text/html,%0A%3Cp%3ETermin%3A%20Donnerstag%2C%20
 22.%20Mai%202025%3Cbr%3EUhrzeit%3A%2018%20Uhr%20%3Cbr%3EOrt%3A%20online%3
 C%2Fp%3E%0A%0A%0A%0A%3Cp%3E%3C%2Fp%3E%0A":Termin: Donnerstag\, 22. Mai 20
 25Uhrzeit: 18 Uhr Ort: online
CLASS:PUBLIC
DTSTART;TZID=Europe/Berlin:20250522T180000
DTEND;TZID=Europe/Berlin:20250522T190000
DTSTAMP:20260421T133524
END:VEVENT
END:VCALENDAR