BEGIN:VCALENDAR
VERSION:2.0
PRODID:gruene-saar.de
METHOD:PUBLISH
BEGIN:VTIMEZONE
TZID:Europe/Berlin
X-LIC-LOCATION:Europe/Berlin
BEGIN:DAYLIGHT
TZOFFSETFROM:+0100
TZOFFSETTO:+0200
TZNAME:CEST
DTSTART:19700329T020000
RRULE:FREQ=YEARLY;INTERVAL=1;BYDAY=-1SU;BYMONTH=3
END:DAYLIGHT
BEGIN:STANDARD
TZOFFSETFROM:+0200
TZOFFSETTO:+0100
TZNAME:CET
DTSTART:19701025T030000
RRULE:FREQ=YEARLY;INTERVAL=1;BYDAY=-1SU;BYMONTH=10
END:STANDARD
END:VTIMEZONE
BEGIN:VEVENT
UID:aaa16930957f83d11840482d92b4e23c@gruene-saar.de
URL;VALUE=URI:https://gruene-saar.de/termine/lag-wirtschaft-und-finanzen-
 4/
LOCATION:
SUMMARY:LAG Wirtschaft und Finanzen
DESCRIPTION;ALTREP="data:text/html,%0A%3Cp%3ETermin%3A%20Freitag%2C%2020.
 %20Februar%202026%3Cbr%3EUhrzeit%3A%2018%3A00%20Uhr%3Cbr%3EOrt%3A%20LGS%3
 C%2Fp%3E%0A":Termin: Freitag\, 20. Februar 2026Uhrzeit: 18:00 UhrOrt: LGS
CLASS:PUBLIC
DTSTART;TZID=Europe/Berlin:20260220T180000
DTEND;TZID=Europe/Berlin:20260220T190000
DTSTAMP:20260423T113139
END:VEVENT
END:VCALENDAR