BEGIN:VCALENDAR
VERSION:2.0
PRODID:gruene-saar.de
METHOD:PUBLISH
BEGIN:VTIMEZONE
TZID:Europe/Berlin
X-LIC-LOCATION:Europe/Berlin
BEGIN:DAYLIGHT
TZOFFSETFROM:+0100
TZOFFSETTO:+0200
TZNAME:CEST
DTSTART:19700329T020000
RRULE:FREQ=YEARLY;INTERVAL=1;BYDAY=-1SU;BYMONTH=3
END:DAYLIGHT
BEGIN:STANDARD
TZOFFSETFROM:+0200
TZOFFSETTO:+0100
TZNAME:CET
DTSTART:19701025T030000
RRULE:FREQ=YEARLY;INTERVAL=1;BYDAY=-1SU;BYMONTH=10
END:STANDARD
END:VTIMEZONE
BEGIN:VEVENT
UID:89c27ee505ce0b93b8d76ffbdc15451b@gruene-saar.de
URL;VALUE=URI:https://gruene-saar.de/termine/landesparteirat-2/
LOCATION:
SUMMARY:Landesparteirat
DESCRIPTION;ALTREP="data:text/html,%0A%3Cp%3ETermin%3A%20Samstag%2C%2007.
 %20Februar%202026%3Cbr%3EUhrzeit%3A%2010%3A00-16%3A00%20Uhr%3Cbr%3EOrt%3A
 %20LGS%3C%2Fp%3E%0A%0A%0A%0A%3Cp%3ETagesordnung%3A%3C%2Fp%3E%0A%0A%0A%0A%
 3Cp%3ETOP%201%20Begr%C3%BC%C3%9Fung%20%26amp%3B%20Formalia%3Cbr%3ETOP%202
 %20Berichte%20aus%20dem%20LaVo%3Cbr%3ETOP%202.1%20Berichte%20aus%20den%20
 Vereinigungen%20und%20KV%3Cbr%3ETOP%203%20Allgemeine%20politische%20Situa
 tion%2FStrategische%20Positionierung%3Cbr%3ETOP%204%20Landtagswahlkampagn
 e%20und%20Information%20%C3%BCber%20Besuch%20der%20BgSt%20%28Bundesgesch%
 C3%A4ftsstelle%29%3Cbr%3ETOP%205%20Vorwahlkampf%20Sommer%2FHerbst%3Cbr%3E
 TOP%207%20Rolle%2FAbgrenzung%20LaVo%2FPR%3Cbr%3ETOP%208%20Wahl%20der%20Vo
 rsitzenden%20des%20Parteirats%3Cbr%3ETOP%209%20Verschiedenes%3C%2Fp%3E%0A
 ":Termin: Samstag\, 07. Februar 2026Uhrzeit: 10:00-16:00 UhrOrt: LGS\n\nT
 agesordnung:\n\nTOP 1 Begrüßung & FormaliaTOP 2 Berichte aus dem LaVoTO
 P 2.1 Berichte aus den Vereinigungen und KVTOP 3 Allgemeine politische Si
 tuation/Strategische PositionierungTOP 4 Landtagswahlkampagne und Informa
 tion über Besuch der BgSt (Bundesgeschäftsstelle)TOP 5 Vorwahlkampf Som
 mer/HerbstTOP 7 Rolle/Abgrenzung LaVo/PRTOP 8 Wahl der Vorsitzenden des P
 arteiratsTOP 9 Verschiedenes
CLASS:PUBLIC
DTSTART;TZID=Europe/Berlin:20260207T100000
DTEND;TZID=Europe/Berlin:20260207T110000
DTSTAMP:20260421T100530
END:VEVENT
END:VCALENDAR