BEGIN:VCALENDAR
VERSION:2.0
PRODID:gruene-saar.de
METHOD:PUBLISH
BEGIN:VTIMEZONE
TZID:Europe/Berlin
X-LIC-LOCATION:Europe/Berlin
BEGIN:DAYLIGHT
TZOFFSETFROM:+0100
TZOFFSETTO:+0200
TZNAME:CEST
DTSTART:19700329T020000
RRULE:FREQ=YEARLY;INTERVAL=1;BYDAY=-1SU;BYMONTH=3
END:DAYLIGHT
BEGIN:STANDARD
TZOFFSETFROM:+0200
TZOFFSETTO:+0100
TZNAME:CET
DTSTART:19701025T030000
RRULE:FREQ=YEARLY;INTERVAL=1;BYDAY=-1SU;BYMONTH=10
END:STANDARD
END:VTIMEZONE
BEGIN:VEVENT
UID:6a84a98f8292c5e3b72671e8783349f7@gruene-saar.de
URL;VALUE=URI:https://gruene-saar.de/termine/landesparteirat-3/
LOCATION:
SUMMARY:Landesparteirat
DESCRIPTION;ALTREP="data:text/html,%0A%3Cp%3ETermin%3A%20Samstag%2C%2030.
 %20Mai%202026%3Cbr%3EUhrzeit%3A%2010%3A00%20Uhr%3Cbr%3EOrt%3A%20LGS%3C%2F
 p%3E%0A%0A%0A%0A%3Cp%3E%3C%2Fp%3E%0A":Termin: Samstag\, 30. Mai 2026Uhrze
 it: 10:00 UhrOrt: LGS
CLASS:PUBLIC
DTSTART;TZID=Europe/Berlin:20260530T100000
DTEND;TZID=Europe/Berlin:20260530T110000
DTSTAMP:20260422T115547
END:VEVENT
END:VCALENDAR