BEGIN:VCALENDAR
VERSION:2.0
PRODID:gruene-saar.de
METHOD:PUBLISH
BEGIN:VTIMEZONE
TZID:Europe/Berlin
X-LIC-LOCATION:Europe/Berlin
BEGIN:DAYLIGHT
TZOFFSETFROM:+0100
TZOFFSETTO:+0200
TZNAME:CEST
DTSTART:19700329T020000
RRULE:FREQ=YEARLY;INTERVAL=1;BYDAY=-1SU;BYMONTH=3
END:DAYLIGHT
BEGIN:STANDARD
TZOFFSETFROM:+0200
TZOFFSETTO:+0100
TZNAME:CET
DTSTART:19701025T030000
RRULE:FREQ=YEARLY;INTERVAL=1;BYDAY=-1SU;BYMONTH=10
END:STANDARD
END:VTIMEZONE
BEGIN:VEVENT
UID:a60f526a1fe23801ff2348bd5485dfeb@gruene-saar.de
URL;VALUE=URI:https://gruene-saar.de/termine/leitbild-workshop-homburg/
LOCATION:
SUMMARY:Leitbild-Workshop Homburg
DESCRIPTION;ALTREP="data:text/html,%0A%3Cp%3ETermin%3A%20Sonntag%2C%2026.
 %20April%202026%3Cbr%3EUhrzeit%3A%2011%3A00%20Uhr%3Cbr%3EOrt%3A%20Hotel%2
 0Stadt%20Homburg%3C%2Fp%3E%0A%0A%0A%0A%3Cp%3EDas%20Leitbild%2C%20das%20wi
 r%20gemeinsam%20mit%20der%20Agentur%20Phasen.Weise%20entwickeln%2C%20dien
 t%20der%20Entwicklung%20eines%20internen%20Selbstverst%C3%A4ndnisses%20de
 r%20Saar-Gr%C3%BCnen.%20Es%20richtet%20sich%20ausdr%C3%BCcklich%20an%20Mi
 tglieder%20und%20Gremien%20des%20Landesverbandes.%20Ziel%20ist%20es%2C%20
 gemeinsame%20Werte%2C%20Haltungen%20und%20Ma%C3%9Fst%C3%A4be%20des%20Hand
 elns%20zu%20kl%C3%A4ren%20und%20festzuhalten.%20Wer%20wir%20als%20Partei%
 20sind%2C%20wie%20wir%20miteinander%20umgehen%2C%20wie%20wir%20nach%20au%
 C3%9Fen%20auftreten%20und%20wie%20wir%20Ver%C3%A4nderung%20in%20unserer%2
 0Partei%20und%20Gesellschaft%20gestalten%20wollen.%20Das%20Leitbild%20sol
 l%20dabei%20Orientierung%20geben%2C%20Entscheidungsprozesse%20unterst%C3%
 BCtzen%20und%20den%20innerverbandlichen%20Zusammenhalt%20st%C3%A4rken.%3C
 %2Fp%3E%0A%0A%0A%0A%3Cp%3EIm%20Rahmen%20der%20Leitbildentwicklung%20werde
 n%20drei%20Workshops%20organisiert%2C%20die%20die%20Funktion%20haben%2C%2
 0diesen%20Prozess%20partizipativ%20und%20vertiefend%20zu%20gestalten.%20A
 ufbauend%20auf%20einer%20vorherigen%20Online-Umfrage%20werden%20die%20Erg
 ebnisse%20in%20den%20Workshops%20gemeinsam%20diskutiert%2C%20gesch%C3%A4r
 ft%20und%20weiterentwickelt.%20Es%20werden%20zentrale%20Leitbildfragen%20
 bearbeitet%2C%20Werte%20und%20Ziele%20konkretisiert%20und%20vor%20allem%2
 0Anwendungsf%C3%A4lle%20%28Use%20Cases%29%2C%20also%20Situationen%2C%20in
 %20denen%20das%20Leitbild%20k%C3%BCnftig%20Orientierung%20geben%20soll%2C
 %20erarbeitet.%20Die%20Workshops%20sind%20damit%20ein%20zentraler%20Schri
 tt%2C%20um%20aus%20Meinungen%20und%20R%C3%BCckmeldungen%20ein%20konsisten
 tes%2C%20tragf%C3%A4higes%20und%20alltagstaugliches%20Leitbild%20zu%20ent
 wickeln.%3C%2Fp%3E%0A%0A%0A%0A%3Cp%3EWeitergehende%20Informationen%20zu%2
 0den%20Workshops%20erhaltet%20ihr%20Ende%20Februar.%3C%2Fp%3E%0A":Termin:
  Sonntag\, 26. April 2026Uhrzeit: 11:00 UhrOrt: Hotel Stadt Homburg\n\nDa
 s Leitbild\, das wir gemeinsam mit der Agentur Phasen.Weise entwickeln\, 
 dient der Entwicklung eines internen Selbstverständnisses der Saar-Grün
 en. Es richtet sich ausdrücklich an Mitglieder und Gremien des Landesver
 bandes. Ziel ist es\, gemeinsame Werte\, Haltungen und Maßstäbe des Han
 delns zu klären und festzuhalten. Wer wir als Partei sind\, wie wir mite
 inander umgehen\, wie wir nach außen auftreten und wie wir Veränderung 
 in unserer Partei und Gesellschaft gestalten wollen. Das Leitbild soll da
 bei Orientierung geben\, Entscheidungsprozesse unterstützen und den inne
 rverbandlichen Zusammenhalt stärken.\n\nIm Rahmen der Leitbildentwicklun
 g werden drei Workshops organisiert\, die die Funktion haben\, diesen Pro
 zess partizipativ und vertiefend zu gestalten. Aufbauend auf einer vorher
 igen Online-Umfrage werden die Ergebnisse in den Workshops gemeinsam disk
 utiert\, geschärft und weiterentwickelt. Es werden zentrale Leitbildfrag
 en bearbeitet\, Werte und Ziele konkretisiert und vor allem Anwendungsfä
 lle (Use Cases)\, also Situationen\, in denen das Leitbild künftig Orien
 tierung geben soll\, erarbeitet. Die Workshops sind damit ein zentraler S
 chritt\, um aus Meinungen und Rückmeldungen ein konsistentes\, tragfähi
 ges und alltagstaugliches Leitbild zu entwickeln.\n\nWeitergehende Inform
 ationen zu den Workshops erhaltet ihr Ende Februar.
CLASS:PUBLIC
DTSTART;TZID=Europe/Berlin:20260426T110000
DTEND;TZID=Europe/Berlin:20260426T120000
DTSTAMP:20260422T114510
END:VEVENT
END:VCALENDAR