BEGIN:VCALENDAR
VERSION:2.0
PRODID:gruene-saar.de
METHOD:PUBLISH
BEGIN:VTIMEZONE
TZID:Europe/Berlin
X-LIC-LOCATION:Europe/Berlin
BEGIN:DAYLIGHT
TZOFFSETFROM:+0100
TZOFFSETTO:+0200
TZNAME:CEST
DTSTART:19700329T020000
RRULE:FREQ=YEARLY;INTERVAL=1;BYDAY=-1SU;BYMONTH=3
END:DAYLIGHT
BEGIN:STANDARD
TZOFFSETFROM:+0200
TZOFFSETTO:+0100
TZNAME:CET
DTSTART:19701025T030000
RRULE:FREQ=YEARLY;INTERVAL=1;BYDAY=-1SU;BYMONTH=10
END:STANDARD
END:VTIMEZONE
BEGIN:VEVENT
UID:d36ca51aba998d4ce4cdb262e9b363b9@gruene-saar.de
URL;VALUE=URI:https://gruene-saar.de/termine/leitbild-workshop-merzig/
LOCATION:
SUMMARY:Leitbild-Workshop Merzig
DESCRIPTION;ALTREP="data:text/html,%0A%3Cp%3ETermin%3A%20Samstag%2C%2025.
 %20April%202026%3Cbr%3EUhrzeit%3A%2011%3A00%20Uhr%3Cbr%3EOrt%3A%20CEB%20M
 erzig%3C%2Fp%3E%0A%0A%0A%0A%3Cp%3EDas%20Leitbild%2C%20das%20wir%20gemeins
 am%20mit%20der%20Agentur%20Phasen.Weise%20entwickeln%2C%20dient%20der%20E
 ntwicklung%20eines%20internen%20Selbstverst%C3%A4ndnisses%20der%20Saar-Gr
 %C3%BCnen.%20Es%20richtet%20sich%20ausdr%C3%BCcklich%20an%20Mitglieder%20
 und%20Gremien%20des%20Landesverbandes.%20Ziel%20ist%20es%2C%20gemeinsame%
 20Werte%2C%20Haltungen%20und%20Ma%C3%9Fst%C3%A4be%20des%20Handelns%20zu%2
 0kl%C3%A4ren%20und%20festzuhalten.%20Wer%20wir%20als%20Partei%20sind%2C%2
 0wie%20wir%20miteinander%20umgehen%2C%20wie%20wir%20nach%20au%C3%9Fen%20a
 uftreten%20und%20wie%20wir%20Ver%C3%A4nderung%20in%20unserer%20Partei%20u
 nd%20Gesellschaft%20gestalten%20wollen.%20Das%20Leitbild%20soll%20dabei%2
 0Orientierung%20geben%2C%20Entscheidungsprozesse%20unterst%C3%BCtzen%20un
 d%20den%20innerverbandlichen%20Zusammenhalt%20st%C3%A4rken.%3C%2Fp%3E%0A%
 0A%0A%0A%3Cp%3EIm%20Rahmen%20der%20Leitbildentwicklung%20werden%20drei%20
 Workshops%20organisiert%2C%20die%20die%20Funktion%20haben%2C%20diesen%20P
 rozess%20partizipativ%20und%20vertiefend%20zu%20gestalten.%20Aufbauend%20
 auf%20einer%20vorherigen%20Online-Umfrage%20werden%20die%20Ergebnisse%20i
 n%20den%20Workshops%20gemeinsam%20diskutiert%2C%20gesch%C3%A4rft%20und%20
 weiterentwickelt.%20Es%20werden%20zentrale%20Leitbildfragen%20bearbeitet%
 2C%20Werte%20und%20Ziele%20konkretisiert%20und%20vor%20allem%20Anwendungs
 f%C3%A4lle%20%28Use%20Cases%29%2C%20also%20Situationen%2C%20in%20denen%20
 das%20Leitbild%20k%C3%BCnftig%20Orientierung%20geben%20soll%2C%20erarbeit
 et.%20Die%20Workshops%20sind%20damit%20ein%20zentraler%20Schritt%2C%20um%
 20aus%20Meinungen%20und%20R%C3%BCckmeldungen%20ein%20konsistentes%2C%20tr
 agf%C3%A4higes%20und%20alltagstaugliches%20Leitbild%20zu%20entwickeln.%3C
 %2Fp%3E%0A%0A%0A%0A%3Cp%3EWeitergehende%20Informationen%20zu%20den%20Work
 shops%20erhaltet%20ihr%20Ende%20Februar.%3C%2Fp%3E%0A":Termin: Samstag\, 
 25. April 2026Uhrzeit: 11:00 UhrOrt: CEB Merzig\n\nDas Leitbild\, das wir
  gemeinsam mit der Agentur Phasen.Weise entwickeln\, dient der Entwicklun
 g eines internen Selbstverständnisses der Saar-Grünen. Es richtet sich 
 ausdrücklich an Mitglieder und Gremien des Landesverbandes. Ziel ist es\
 , gemeinsame Werte\, Haltungen und Maßstäbe des Handelns zu klären und
  festzuhalten. Wer wir als Partei sind\, wie wir miteinander umgehen\, wi
 e wir nach außen auftreten und wie wir Veränderung in unserer Partei un
 d Gesellschaft gestalten wollen. Das Leitbild soll dabei Orientierung geb
 en\, Entscheidungsprozesse unterstützen und den innerverbandlichen Zusam
 menhalt stärken.\n\nIm Rahmen der Leitbildentwicklung werden drei Worksh
 ops organisiert\, die die Funktion haben\, diesen Prozess partizipativ un
 d vertiefend zu gestalten. Aufbauend auf einer vorherigen Online-Umfrage 
 werden die Ergebnisse in den Workshops gemeinsam diskutiert\, geschärft 
 und weiterentwickelt. Es werden zentrale Leitbildfragen bearbeitet\, Wert
 e und Ziele konkretisiert und vor allem Anwendungsfälle (Use Cases)\, al
 so Situationen\, in denen das Leitbild künftig Orientierung geben soll\,
  erarbeitet. Die Workshops sind damit ein zentraler Schritt\, um aus Mein
 ungen und Rückmeldungen ein konsistentes\, tragfähiges und alltagstaugl
 iches Leitbild zu entwickeln.\n\nWeitergehende Informationen zu den Works
 hops erhaltet ihr Ende Februar.
CLASS:PUBLIC
DTSTART;TZID=Europe/Berlin:20260425T110000
DTEND;TZID=Europe/Berlin:20260425T120000
DTSTAMP:20260422T114755
END:VEVENT
END:VCALENDAR