BEGIN:VCALENDAR
VERSION:2.0
PRODID:gruene-saar.de
METHOD:PUBLISH
BEGIN:VTIMEZONE
TZID:Europe/Berlin
X-LIC-LOCATION:Europe/Berlin
BEGIN:DAYLIGHT
TZOFFSETFROM:+0100
TZOFFSETTO:+0200
TZNAME:CEST
DTSTART:19700329T020000
RRULE:FREQ=YEARLY;INTERVAL=1;BYDAY=-1SU;BYMONTH=3
END:DAYLIGHT
BEGIN:STANDARD
TZOFFSETFROM:+0200
TZOFFSETTO:+0100
TZNAME:CET
DTSTART:19701025T030000
RRULE:FREQ=YEARLY;INTERVAL=1;BYDAY=-1SU;BYMONTH=10
END:STANDARD
END:VTIMEZONE
BEGIN:VEVENT
UID:ed4a447101b3940bd72393c517771e47@gruene-saar.de
URL;VALUE=URI:https://gruene-saar.de/termine/lesung-mit-jan-hegenberg-der
 -graslutscher-kv-saarbruecken/
LOCATION:
SUMMARY:Lesung mit Jan Hegenberg (Der Graslutscher), KV Saarbrücken
DESCRIPTION;ALTREP="data:text/html,%0A%3Cp%3ETermin%3A%20Dienstag%2C%2007
 .%20Oktober%202025%3Cbr%3EUhrzeit%3A%2018%3A30%20Uhr%3Cbr%3EOrt%3A%20Hall
 e%204%3C%2Fp%3E%0A%0A%0A%0A%3Cdiv%20class%3D%22wp-block-buttons%20is-layo
 ut-flex%20wp-block-buttons-is-layout-flex%22%3E%0A%3Cdiv%20class%3D%22wp-
 block-button%22%3E%3Ca%20class%3D%22wp-block-button__link%20wp-element-bu
 tton%22%20href%3D%22https%3A%2F%2Fgruene-kv-saarbruecken.de%2Fevents%2Fle
 sung-mit-jan-hegenberg-der-graslutscher%2F%22%3E%3Cstrong%3EWEITERE%20INF
 ORMATIONEN%3C%2Fstrong%3E%3C%2Fa%3E%3C%2Fdiv%3E%0A%3C%2Fdiv%3E%0A":Termin
 : Dienstag\, 07. Oktober 2025Uhrzeit: 18:30 UhrOrt: Halle 4\n\nWEITERE IN
 FORMATIONEN
CLASS:PUBLIC
DTSTART;TZID=Europe/Berlin:20251007T183000
DTEND;TZID=Europe/Berlin:20251007T193000
DTSTAMP:20260421T100650
END:VEVENT
END:VCALENDAR