BEGIN:VCALENDAR
VERSION:2.0
PRODID:gruene-saar.de
METHOD:PUBLISH
BEGIN:VTIMEZONE
TZID:Europe/Berlin
X-LIC-LOCATION:Europe/Berlin
BEGIN:DAYLIGHT
TZOFFSETFROM:+0100
TZOFFSETTO:+0200
TZNAME:CEST
DTSTART:19700329T020000
RRULE:FREQ=YEARLY;INTERVAL=1;BYDAY=-1SU;BYMONTH=3
END:DAYLIGHT
BEGIN:STANDARD
TZOFFSETFROM:+0200
TZOFFSETTO:+0100
TZNAME:CET
DTSTART:19701025T030000
RRULE:FREQ=YEARLY;INTERVAL=1;BYDAY=-1SU;BYMONTH=10
END:STANDARD
END:VTIMEZONE
BEGIN:VEVENT
UID:413568a1c8d2ba3c649dc08b624cb52d@gruene-saar.de
URL;VALUE=URI:https://gruene-saar.de/termine/neujahrsempfang-kv-saarlouis
 /
LOCATION:Theater am Ring, Kaiser-Friedrich-Ring 26, Kaiser-Friedrich-Ring
  26
SUMMARY:Neujahrsempfang KV Saarlouis
DESCRIPTION;ALTREP="data:text/html,%0A%3Cp%3EDer%20Kreisverband%20Saarlou
 is%20von%20B%C3%BCndnis%2090%2FDie%20Gr%C3%BCnen%20l%C3%A4dt%20Sie%20herz
 lich%20zu%20seinem%20Neujahrsempfang%202025%20ein.%20Wir%20m%C3%B6chten%2
 0gemeinsam%20mit%20Ihnen%20auf%20das%20neue%20Jahr%20ansto%C3%9Fen%2C%20a
 ktuelle%20politische%20Themen%20diskutieren%20und%20einen%20Ausblick%20au
 f%20die%20kommenden%20Herausforderungen%20und%20Chancen%20geben.%3C%2Fp%3
 E%0A%3Cp%3E%3Cstrong%3EDatum%3A%3C%2Fstrong%3E%26nbsp%3BFreitag%2C%2014.%
 20Februar%202025%3Cbr%3E%3Cstrong%3EUhrzeit%3A%3C%2Fstrong%3E%26nbsp%3B18
 %3A00%20Uhr%3Cbr%3E%3Cstrong%3EOrt%3A%3C%2Fstrong%3E%26nbsp%3BFestsaal%20
 Theater%20am%20Ring%2C%20Saarlouis%3C%2Fp%3E%0A%3Cp%3E%3Cstrong%3EProgram
 m%3A%3C%2Fstrong%3E%3Cbr%3E-%20Einlass%20mit%20Sektempfang%3Cbr%3E-%20Beg
 r%C3%BC%C3%9Fung%20durch%20die%20KV-Vorsitzenden%20Petra%20Port%20und%20B
 enjamin%20Mey%3Cbr%3E-%20Bundestagswahl%202025%3A%20Gru%C3%9Fwort%20des%2
 0Landesvorsitzenden%20und%20Wahlkreiskandidaten%20Volker%20Morbe%3Cbr%3E-
 %20Rede%20von%20Frank%20Bsirske%20%28Mitglied%20des%20Bundestags%2C%20ehe
 maliger%20Vorsitzender%20von%20Verdi%20Deutschland%29%3Cbr%3E-%20Ausblick
 %20f%C3%BCr%20den%20Landkreis%20Saarlouis%3A%20Beitrag%20des%20Fraktionsv
 orsitzenden%20Klaus%20Kessler%3Cbr%3E-%20Come%20Together%3C%2Fp%3E%0A%3Cp
 %3EWir%20freuen%20uns%2C%20Sie%20bei%20dieser%20Gelegenheit%20begr%C3%BC%
 C3%9Fen%20zu%20d%C3%BCrfen%20und%20bitten%20um%20Anmeldung%20unter%3A%26n
 bsp%3B%3Ca%20href%3D%22http%3A%2F%2Fvorstand%40gruene-sls.de%2F%22%20targ
 et%3D%22_blank%22%20rel%3D%22noopener%22%3Evorstand%40gruene-sls.de%3C%2F
 a%3E%3C%2Fp%3E%0A":Der Kreisverband Saarlouis von Bündnis 90/Die Grünen
  lädt Sie herzlich zu seinem Neujahrsempfang 2025 ein. Wir möchten geme
 insam mit Ihnen auf das neue Jahr anstoßen\, aktuelle politische Themen 
 diskutieren und einen Ausblick auf die kommenden Herausforderungen und Ch
 ancen geben.\n\nDatum: Freitag\, 14. Februar 2025Uhrzeit: 18:00 UhrOrt:
  Festsaal Theater am Ring\, Saarlouis\n\nProgramm:- Einlass mit Sektempf
 ang- Begrüßung durch die KV-Vorsitzenden Petra Port und Benjamin Mey- B
 undestagswahl 2025: Grußwort des Landesvorsitzenden und Wahlkreiskandida
 ten Volker Morbe- Rede von Frank Bsirske (Mitglied des Bundestags\, ehema
 liger Vorsitzender von Verdi Deutschland)- Ausblick für den Landkreis Sa
 arlouis: Beitrag des Fraktionsvorsitzenden Klaus Kessler- Come Together\n
 \nWir freuen uns\, Sie bei dieser Gelegenheit begrüßen zu dürfen und b
 itten um Anmeldung unter: vorstand@gruene-sls.de
CLASS:PUBLIC
DTSTART;TZID=Europe/Berlin:20250214T180000
DTEND;TZID=Europe/Berlin:20250214T190000
DTSTAMP:20260421T100553
END:VEVENT
END:VCALENDAR