BEGIN:VCALENDAR
VERSION:2.0
PRODID:gruene-saar.de
METHOD:PUBLISH
BEGIN:VTIMEZONE
TZID:Europe/Berlin
X-LIC-LOCATION:Europe/Berlin
BEGIN:DAYLIGHT
TZOFFSETFROM:+0100
TZOFFSETTO:+0200
TZNAME:CEST
DTSTART:19700329T020000
RRULE:FREQ=YEARLY;INTERVAL=1;BYDAY=-1SU;BYMONTH=3
END:DAYLIGHT
BEGIN:STANDARD
TZOFFSETFROM:+0200
TZOFFSETTO:+0100
TZNAME:CET
DTSTART:19701025T030000
RRULE:FREQ=YEARLY;INTERVAL=1;BYDAY=-1SU;BYMONTH=10
END:STANDARD
END:VTIMEZONE
BEGIN:VEVENT
UID:14eba62c3762d65ae72ab4e12d67d7f3@gruene-saar.de
URL;VALUE=URI:https://gruene-saar.de/termine/online-konferenz-rettet-die-
 erneuerbaren-energien/
LOCATION:
SUMMARY:Online-Konferenz „Rettet die Erneuerbaren Energien!“
DESCRIPTION;ALTREP="data:text/html,%0A%3Cp%3ETermin%3A%20Donnerstag%2C%20
 16.%20April%202026%3Cbr%3EUhrzeit%3A%2016%3A30%20Uhr%3Cbr%3EAnmeldung%20u
 nter%3A%20%3Ca%20href%3D%22https%3A%2F%2Fgruene-de.zoom.us%2Fwebinar%2Fre
 gister%2FWN_0YFVSPh3Su2hQGfTrGQBcw%23%2Fregistration%22%3Ehttps%3A%2F%2Fg
 ruene-de.zoom.us%2Fwebinar%2Fregister%2FWN_0YFVSPh3Su2hQGfTrGQBcw%23%2Fre
 gistration%3C%2Fa%3E%3C%2Fp%3E%0A%0A%0A%0A%3Cp%3E%3C%2Fp%3E%0A":Termin: D
 onnerstag\, 16. April 2026Uhrzeit: 16:30 UhrAnmeldung unter: https://grue
 ne-de.zoom.us/webinar/register/WN_0YFVSPh3Su2hQGfTrGQBcw#/registration
CLASS:PUBLIC
DTSTART;TZID=Europe/Berlin:20260416T163000
DTEND;TZID=Europe/Berlin:20260416T173000
DTSTAMP:20260424T171223
END:VEVENT
END:VCALENDAR