BEGIN:VCALENDAR
VERSION:2.0
PRODID:gruene-saar.de
METHOD:PUBLISH
BEGIN:VTIMEZONE
TZID:Europe/Berlin
X-LIC-LOCATION:Europe/Berlin
BEGIN:DAYLIGHT
TZOFFSETFROM:+0100
TZOFFSETTO:+0200
TZNAME:CEST
DTSTART:19700329T020000
RRULE:FREQ=YEARLY;INTERVAL=1;BYDAY=-1SU;BYMONTH=3
END:DAYLIGHT
BEGIN:STANDARD
TZOFFSETFROM:+0200
TZOFFSETTO:+0100
TZNAME:CET
DTSTART:19701025T030000
RRULE:FREQ=YEARLY;INTERVAL=1;BYDAY=-1SU;BYMONTH=10
END:STANDARD
END:VTIMEZONE
BEGIN:VEVENT
UID:d74f5d2c01f5a2e2dbef3a05f17d89fa@gruene-saar.de
URL;VALUE=URI:https://gruene-saar.de/termine/ov-kirkel-gruener-abend/
LOCATION:Landhaus am Kleinen Sägeweiher, Am Sägeweiher 201, 66459 Kirke
 l-Limbach
SUMMARY:OV  Kirkel  – GRÜNER Abend
DESCRIPTION;ALTREP="data:text/html,%0A%3Cp%3ELiebe%20Freundinnen%20und%20
 Freunde%20der%20Gr%C3%BCnen%21%3C%2Fp%3E%0A%0A%0A%0A%3Cp%3EDie%20Kirkeler
 %20Gr%C3%BCnen%20laden%20zu%20einem%20weiteren%20spannenden%20Gr%C3%BCnen
 %20Abend%20ein%3A%3Cbr%3E%3Cbr%3E%3Cstrong%3EAm%2028.08.2025%20ab%2018%3A
 30%20Uhr%20im%20Landhaus%20am%20Kleinen%20S%C3%A4geweiher.%20%3C%2Fstrong
 %3E%28Am%20S%C3%A4geweiher%20201%2C%2066459%20Kirkel-Limbach%29%3Cbr%3E%3
 Cbr%3EEs%20ist%20uns%20gelungen%2C%20den%20renommierten%20Diplombiologen%
 20f%C3%BCr%20Gew%C3%A4sser%C3%B6kologie%20Adam%20Schmitt%20zu%20gewinnen.
 %3C%2Fp%3E%0A%0A%0A%0A%3Cp%3E%3Cbr%3E%3Cstrong%3EThema%3A%20%E2%80%9EWass
 er%20und%20Landschaft%20im%20Klimawandel%20%E2%80%93%20Welche%20Anpassung
 sstrategien%20gibt%20es%20im%20Saarland%3F%E2%80%9C%3C%2Fstrong%3E%3Cbr%3
 E%3Cbr%3EAdam%20Schmitt%20war%20langj%C3%A4hriger%20Laborleiter%20im%20sa
 arl%C3%A4ndischen%20Umweltministerium%2C%20ist%20Initiator%20und%20Sprech
 er%20der%20BUND%20Regionalgruppe%20Bliesgau%20und%20ber%C3%A4t%20den%20BU
 ND%20Saar%20sowie%20den%20NABU%20in%20Wasserfragen.%20Er%20hat%20vermutli
 ch%20den%20besten%20%C3%9Cberblick%20%C3%BCber%20Wasser%20im%20Saarland.%
 3Cbr%3ESeine%20fundierten%20Kenntnisse%20und%20pers%C3%B6nlichen%20Erfahr
 ungen%20machen%20ihn%20zu%20einem%20herausragenden%20Referenten%2C%20der%
 20sicherlich%20viele%20Aspekte%20dieser%20lebenswichtigen%20Thematik%20be
 leuchten%20kann.%20Seien%20Sie%20dabei%20und%20stellen%20Sie%20Ihre%20Fra
 gen%21%3Cbr%3E%3Cbr%3EWir%20freuen%20uns%20mit%20Euch%2FIhnen%20auf%20ein
 en%20spannenden%2C%20illustrierten%20Vortrag%20und%20anregende%20Diskussi
 onen.%26nbsp%3B%3C%2Fp%3E%0A%0A%0A%0A%3Cp%3E%3Cem%3EDer%20sogenannte%20%E
 2%80%9CGr%C3%BCne%20Abend%E2%80%9D%20ist%20%C3%B6ffentlich.%26nbsp%3B%3C%
 2Fem%3E%3C%2Fp%3E%0A%0A%0A%0A%3Cp%3E%3Cem%3EDieses%20Format%20der%20Kirke
 ler%20Gr%C3%BCnen%20soll%20dem%20informativen%20und%20interaktiven%20Aust
 ausch%20dienen.%3Cbr%3EZu%20interessanten%20Themenbereichen%20organisiere
 n%20wir%20mit%20sach-%20und%20fachkundigen%20Referenten%20fundierte%2C%20
 aber%20f%C3%BCr%20alle%20verst%C3%A4ndliche%20Fachvortr%C3%A4ge.%20Hierbe
 i%20steht%20immer%20die%20gemeinsame%20Zukunft%20aller%20im%20Fokus%3A%20
 Nicht%20belehrend%2C%20sondern%20sachlich%20aufkl%C3%A4rend%20und%20zukun
 ftsweisend.%20Probleme%20sollen%20benannt%2C%20Fragen%20beantwortet%2C%20
 Missverst%C3%A4ndnisse%20ausger%C3%A4umt%20und%20L%C3%B6sungswege%20aufge
 zeigt%20werden.%20Hierzu%20sind%20alle%20aufgerufen%20mitzumachen%20und%2
 0uns%20kritisch%20zu%20begleiten.%3C%2Fem%3E%3Cbr%3E%3Cbr%3EWir%20laden%2
 0Euch%2FSie%20herzlich%20ein%21%3C%2Fp%3E%0A%0A%0A%0A%3Cp%3EF%C3%BCr%20de
 n%20Vorstand%20des%26nbsp%3B%3C%2Fp%3E%0A%0A%0A%0A%3Cp%3EB%2790%2F%20Die%
 20Gr%C3%BCnen%20Ortsverband%20Kirkel%20Matthias%20Ho%C3%9Ffeld%3C%2Fp%3E%
 0A":Liebe Freundinnen und Freunde der Grünen!\n\nDie Kirkeler Grünen la
 den zu einem weiteren spannenden Grünen Abend ein:Am 28.08.2025 ab 18:30
  Uhr im Landhaus am Kleinen Sägeweiher. (Am Sägeweiher 201\, 66459 Kirk
 el-Limbach)Es ist uns gelungen\, den renommierten Diplombiologen für Gew
 ässerökologie Adam Schmitt zu gewinnen.\n\nThema: „Wasser und Landsch
 aft im Klimawandel – Welche Anpassungsstrategien gibt es im Saarland?
 “Adam Schmitt war langjähriger Laborleiter im saarländischen Umweltmi
 nisterium\, ist Initiator und Sprecher der BUND Regionalgruppe Bliesgau u
 nd berät den BUND Saar sowie den NABU in Wasserfragen. Er hat vermutlich
  den besten Überblick über Wasser im Saarland.Seine fundierten Kenntnis
 se und persönlichen Erfahrungen machen ihn zu einem herausragenden Refer
 enten\, der sicherlich viele Aspekte dieser lebenswichtigen Thematik bele
 uchten kann. Seien Sie dabei und stellen Sie Ihre Fragen!Wir freuen uns m
 it Euch/Ihnen auf einen spannenden\, illustrierten Vortrag und anregende 
 Diskussionen. \n\nDer sogenannte “Grüne Abend” ist öffentlich. \n
 \nDieses Format der Kirkeler Grünen soll dem informativen und interaktiv
 en Austausch dienen.Zu interessanten Themenbereichen organisieren wir mit
  sach- und fachkundigen Referenten fundierte\, aber für alle verständli
 che Fachvorträge. Hierbei steht immer die gemeinsame Zukunft aller im Fo
 kus: Nicht belehrend\, sondern sachlich aufklärend und zukunftsweisend. 
 Probleme sollen benannt\, Fragen beantwortet\, Missverständnisse ausger
 äumt und Lösungswege aufgezeigt werden. Hierzu sind alle aufgerufen mit
 zumachen und uns kritisch zu begleiten.Wir laden Euch/Sie herzlich ein!\n
 \nFür den Vorstand des \n\nB'90/ Die Grünen Ortsverband Kirkel Matthia
 s Hoßfeld
CLASS:PUBLIC
DTSTART;TZID=Europe/Berlin:20250828T183000
DTEND;TZID=Europe/Berlin:20250828T193000
DTSTAMP:20260421T100554
END:VEVENT
END:VCALENDAR