BEGIN:VCALENDAR
VERSION:2.0
PRODID:gruene-saar.de
METHOD:PUBLISH
BEGIN:VTIMEZONE
TZID:Europe/Berlin
X-LIC-LOCATION:Europe/Berlin
BEGIN:DAYLIGHT
TZOFFSETFROM:+0100
TZOFFSETTO:+0200
TZNAME:CEST
DTSTART:19700329T020000
RRULE:FREQ=YEARLY;INTERVAL=1;BYDAY=-1SU;BYMONTH=3
END:DAYLIGHT
BEGIN:STANDARD
TZOFFSETFROM:+0200
TZOFFSETTO:+0100
TZNAME:CET
DTSTART:19701025T030000
RRULE:FREQ=YEARLY;INTERVAL=1;BYDAY=-1SU;BYMONTH=10
END:STANDARD
END:VTIMEZONE
BEGIN:VEVENT
UID:04dbabcb67e54b66f866915799c55d54@gruene-saar.de
URL;VALUE=URI:https://gruene-saar.de/termine/ov-lebach-picobello/
LOCATION:
SUMMARY:OV Lebach: Picobello
DESCRIPTION;ALTREP="data:text/html,%0A%3Cp%3ETermin%3A%20Samstag%2C%2021.
 %20M%C3%A4rz%202026%3Cbr%3EUhrzeit%3A%2015%3A00%20Uhr%3Cbr%3EOrt%3A%20Leb
 ach-Steinbach%20am%20Sportplatz%3C%2Fp%3E%0A":Termin: Samstag\, 21. März
  2026Uhrzeit: 15:00 UhrOrt: Lebach-Steinbach am Sportplatz
CLASS:PUBLIC
DTSTART;TZID=Europe/Berlin:20260321T150000
DTEND;TZID=Europe/Berlin:20260321T160000
DTSTAMP:20260421T100530
END:VEVENT
END:VCALENDAR