BEGIN:VCALENDAR
VERSION:2.0
PRODID:gruene-saar.de
METHOD:PUBLISH
BEGIN:VTIMEZONE
TZID:Europe/Berlin
X-LIC-LOCATION:Europe/Berlin
BEGIN:DAYLIGHT
TZOFFSETFROM:+0100
TZOFFSETTO:+0200
TZNAME:CEST
DTSTART:19700329T020000
RRULE:FREQ=YEARLY;INTERVAL=1;BYDAY=-1SU;BYMONTH=3
END:DAYLIGHT
BEGIN:STANDARD
TZOFFSETFROM:+0200
TZOFFSETTO:+0100
TZNAME:CET
DTSTART:19701025T030000
RRULE:FREQ=YEARLY;INTERVAL=1;BYDAY=-1SU;BYMONTH=10
END:STANDARD
END:VTIMEZONE
BEGIN:VEVENT
UID:f4d4046b899b17edf7cae481f85dc56c@gruene-saar.de
URL;VALUE=URI:https://gruene-saar.de/termine/religionsunterricht-fuer-all
 e/
LOCATION:Grüner Raum, Cecilienstraße 4, Saarbrücken
SUMMARY:RELIGIONSUNTERRICHT FÜR ALLE?
DESCRIPTION;ALTREP="data:text/html,%0A%3Cp%3E%3Cstrong%3EHAMBURGER%20MODE
 LL%20ALS%20VORBILD%20F%C3%9CR%20DAS%20SAARLAND%3F%3C%2Fstrong%3E%3C%2Fp%3
 E%0A%3Cp%3EEin%20Modell%2C%20das%20in%20Zeiten%20gesellschaftlicher%20Spa
 nnungen%20immer%20wichtiger%20scheint.%20Ein%20Modell%20f%C3%BCr%20das%20
 Saarland%3F%3C%2Fp%3E%0A%3Cp%3EDer%20Religionsunterricht%20ist%20bundeswe
 it%20einzigartig.%20Sch%C3%BClerinnen%20und%20Sch%C3%BCler%20verschiedene
 r%20Glaubensrichtungen%20und%20Weltanschauungen%20lernen%20gemeinsam.%20D
 ieses%20Modell%20ist%20auch%20zug%C3%A4nglich%20f%C3%BCr%20Kinder%20und%2
 0Jugendliche%2C%20die%20keiner%20Religion%20angeh%C3%B6ren.%3C%2Fp%3E%0A%
 3Cp%3E%3Cstrong%3E14.03.2024%3C%2Fstrong%3E%3Cbr%3E%3Cstrong%3E19%3A00%20
 Uhr%3C%2Fstrong%3E%3Cbr%3EHYBRID%20-%20Link%20bei%20Anmeldung%3C%2Fp%3E%0
 A%3Cp%3E%3Cstrong%3E%E2%80%9CGr%C3%BCner%20Raum%E2%80%9D%3C%2Fstrong%3E%3
 Cbr%3ECecilienstra%C3%9Fe%204%3Cbr%3ENauwieser%20Viertel%3C%2Fp%3E%0A%3Cp
 %3EAnmeldung%20unter%3A%20%3Ca%20href%3D%22mailto%3Aandrea.schrickel%40we
 b.de%22%3Eandrea.schrickel%40web.de%3C%2Fa%3E%3C%2Fp%3E%0A%0A%0A%0A%3Cdiv
 %20style%3D%22height%3A21px%22%20aria-hidden%3D%22true%22%20class%3D%22wp
 -block-spacer%22%3E%3C%2Fdiv%3E%0A%0A%0A%0A%3Cdiv%3E%3Cdiv%20class%3D%22o
 otb-openstreetmap--map%22%20data-provider%3D%22openstreetmap%22%20data-ma
 ptype%3D%22marker%22%20data-showmarkers%3D%22true%22%20data-shapestyle%3D
 %22%257B%2522fillColor%2522%253A%2522%2523008EFF%2522%252C%2522color%2522
 %253A%2522%2523008EFF%2522%252C%2522weight%2522%253A3%257D%22%20data-shap
 etext%3D%22%22%20data-markers%3D%22%255B%257B%2522lat%2522%253A%252249.23
 6033500000005%2522%252C%2522lng%2522%253A%25226.997615053645612%2522%252C
 %2522text%2522%253A%2522%253Cp%253E4%252C%2520Cecilienstra%25C3%259Fe%252
 C%2520Nauwieser%2520Viertel%252C%2520Distrikt%2520Nauwieser%2520Viertel%2
 52C%2520St.%2520Johann%252C%2520Bezirk%2520Mitte%252C%2520Saarbr%25C3%25B
 Ccken%252C%2520Regionalverband%2520Saarbr%25C3%25BCcken%252C%2520Saarland
 %252C%252066111%252C%2520Deutschland%253C%252Fp%253E%2522%252C%2522id%252
 2%253A1707906695277%257D%255D%22%20data-bounds%3D%22%5B49.236033500000005
 %2C6.997615053645612%5D%22%20data-zoom%3D%2218%22%20data-minzoom%3D%222%2
 2%20data-maxzoom%3D%2218%22%20data-dragging%3D%22true%22%20data-touchzoom
 %3D%22true%22%20data-doubleclickzoom%3D%22true%22%20data-scrollwheelzoom%
 3D%22true%22%20data-marker%3D%22%257B%2522iconUrl%2522%253A%2522https%253
 A%252F%252Fgruene-saar.de%252Fwp-content%252Fplugins%252Footb-openstreetm
 ap%252Fassets%252Fvendor%252Fleaflet%252Fimages%252Fmarker-icon.png%2522%
 252C%2522iconAnchor%2522%253A%255B12%252C41%255D%252C%2522popupAnchor%252
 2%253A%255B0%252C-41%255D%257D%22%20style%3D%22height%3A400px%22%3E%3C%2F
 div%3E%3C%2Fdiv%3E%0A":HAMBURGER MODELL ALS VORBILD FÜR DAS SAARLAND?\n\
 nEin Modell\, das in Zeiten gesellschaftlicher Spannungen immer wichtiger
  scheint. Ein Modell für das Saarland?\n\nDer Religionsunterricht ist bu
 ndesweit einzigartig. Schülerinnen und Schüler verschiedener Glaubensri
 chtungen und Weltanschauungen lernen gemeinsam. Dieses Modell ist auch zu
 gänglich für Kinder und Jugendliche\, die keiner Religion angehören.\n
 \n14.03.202419:00 UhrHYBRID - Link bei Anmeldung\n\n“Grüner Raum”Cec
 ilienstraße 4Nauwieser Viertel\n\nAnmeldung unter: andrea.schrickel@web.
 de
CLASS:PUBLIC
DTSTART;TZID=Europe/Berlin:20240314T190000
DTEND;TZID=Europe/Berlin:20240314T220000
DTSTAMP:20260423T114139
END:VEVENT
END:VCALENDAR