BEGIN:VCALENDAR
VERSION:2.0
PRODID:gruene-saar.de
METHOD:PUBLISH
BEGIN:VTIMEZONE
TZID:Europe/Berlin
X-LIC-LOCATION:Europe/Berlin
BEGIN:DAYLIGHT
TZOFFSETFROM:+0100
TZOFFSETTO:+0200
TZNAME:CEST
DTSTART:19700329T020000
RRULE:FREQ=YEARLY;INTERVAL=1;BYDAY=-1SU;BYMONTH=3
END:DAYLIGHT
BEGIN:STANDARD
TZOFFSETFROM:+0200
TZOFFSETTO:+0100
TZNAME:CET
DTSTART:19701025T030000
RRULE:FREQ=YEARLY;INTERVAL=1;BYDAY=-1SU;BYMONTH=10
END:STANDARD
END:VTIMEZONE
BEGIN:VEVENT
UID:71da903f05ed29c2232f888f5900e332@gruene-saar.de
URL;VALUE=URI:https://gruene-saar.de/termine/social-media-fuer-anfaenger/
LOCATION:
SUMMARY:Social Media für Anfänger
DESCRIPTION;ALTREP="data:text/html,%0A%3Cp%3ETermin%3A%20Montag%2C%2027.%
 20April%202026%3Cbr%3EUhrzeit%3A%2018%3A00%20Uhr%3Cbr%3EOnline%20via%20Zo
 om%3A%20%3Ca%20href%3D%22https%3A%2F%2Feu02web.zoom-x.de%2Fj%2F6477227736
 0%3Fpwd%3DR5tSxdfp9sTsleElAaA3B73QLTWwAa.1%22%3Ehttps%3A%2F%2Feu02web.zoo
 m-x.de%2Fj%2F64772277360%3Fpwd%3DR5tSxdfp9sTsleElAaA3B73QLTWwAa.1%3C%2Fa%
 3E%3C%2Fp%3E%0A%0A%0A%0A%3Cp%3EIn%20dieser%20Schulung%20erhaltet%20ihr%20
 einen%20praxisnahen%20Einstieg%20in%20die%20Welt%20der%20sozialen%20Medie
 n%2C%20von%20den%20wichtigsten%20Plattformen%20%C3%BCber%20grundlegende%2
 0Funktionen%20bis%20hin%20zu%20ersten%20eigenen%20Beitr%C3%A4gen.%20Es%20
 gibt%20au%C3%9Ferdem%20Raum%20f%C3%BCr%20eure%20Fragen%20und%20den%20geme
 insamen%20Austausch.%3C%2Fp%3E%0A":Termin: Montag\, 27. April 2026Uhrzeit
 : 18:00 UhrOnline via Zoom: https://eu02web.zoom-x.de/j/64772277360?pwd=R
 5tSxdfp9sTsleElAaA3B73QLTWwAa.1\n\nIn dieser Schulung erhaltet ihr einen 
 praxisnahen Einstieg in die Welt der sozialen Medien\, von den wichtigste
 n Plattformen über grundlegende Funktionen bis hin zu ersten eigenen Bei
 trägen. Es gibt außerdem Raum für eure Fragen und den gemeinsamen Aust
 ausch.
CLASS:PUBLIC
DTSTART;TZID=Europe/Berlin:20260427T180000
DTEND;TZID=Europe/Berlin:20260427T190000
DTSTAMP:20260422T115036
END:VEVENT
END:VCALENDAR