BEGIN:VCALENDAR
VERSION:2.0
PRODID:gruene-saar.de
METHOD:PUBLISH
BEGIN:VTIMEZONE
TZID:Europe/Berlin
X-LIC-LOCATION:Europe/Berlin
BEGIN:DAYLIGHT
TZOFFSETFROM:+0100
TZOFFSETTO:+0200
TZNAME:CEST
DTSTART:19700329T020000
RRULE:FREQ=YEARLY;INTERVAL=1;BYDAY=-1SU;BYMONTH=3
END:DAYLIGHT
BEGIN:STANDARD
TZOFFSETFROM:+0200
TZOFFSETTO:+0100
TZNAME:CET
DTSTART:19701025T030000
RRULE:FREQ=YEARLY;INTERVAL=1;BYDAY=-1SU;BYMONTH=10
END:STANDARD
END:VTIMEZONE
BEGIN:VEVENT
UID:d16f049a6e5df8fe4f6b110dd4e7cdd1@gruene-saar.de
URL;VALUE=URI:https://gruene-saar.de/termine/social-media-fuer-fortgeschr
 ittene/
LOCATION:
SUMMARY:Social Media für Fortgeschrittene
DESCRIPTION;ALTREP="data:text/html,%0A%3Cp%3ETermin%3A%20Montag%2C%204.%2
 0Mai%202026%3Cbr%3EUhrzeit%3A%2018%3A00%20Uhr%3Cbr%3EOnline%20via%20Zoom%
 3A%20%3Ca%20href%3D%22https%3A%2F%2Feu02web.zoom-x.de%2Fj%2F65887288472%3
 Fpwd%3DSCq5sdOcklniRw4xEYl9WhjznU2kOy.1%22%3Ehttps%3A%2F%2Feu02web.zoom-x
 .de%2Fj%2F65887288472%3Fpwd%3DSCq5sdOcklniRw4xEYl9WhjznU2kOy.1%3C%2Fa%3E%
 3C%2Fp%3E%0A%0A%0A%0A%3Cp%3EDiese%20Schulung%20richtet%20sich%20an%20alle
 %2C%20die%20bereits%20erste%20Erfahrungen%20gesammelt%20haben%20und%20ihr
 e%20Social-Media-Arbeit%20strategisch%20weiterentwickeln%20m%C3%B6chten.%
 20Themen%20sind%20unter%20anderem%20Algorithmus-Verst%C3%A4ndnis%2C%20Con
 tent-Strategien%2C%20Reel-Erstellung%20sowie%20Analyse%20und%20Optimierun
 g.%3C%2Fp%3E%0A":Termin: Montag\, 4. Mai 2026Uhrzeit: 18:00 UhrOnline via
  Zoom: https://eu02web.zoom-x.de/j/65887288472?pwd=SCq5sdOcklniRw4xEYl9Wh
 jznU2kOy.1\n\nDiese Schulung richtet sich an alle\, die bereits erste Erf
 ahrungen gesammelt haben und ihre Social-Media-Arbeit strategisch weitere
 ntwickeln möchten. Themen sind unter anderem Algorithmus-Verständnis\, 
 Content-Strategien\, Reel-Erstellung sowie Analyse und Optimierung.
CLASS:PUBLIC
DTSTART;TZID=Europe/Berlin:20260504T180000
DTEND;TZID=Europe/Berlin:20260504T190000
DTSTAMP:20260422T115456
END:VEVENT
END:VCALENDAR