BEGIN:VCALENDAR
VERSION:2.0
PRODID:gruene-saar.de
METHOD:PUBLISH
BEGIN:VTIMEZONE
TZID:Europe/Berlin
X-LIC-LOCATION:Europe/Berlin
BEGIN:DAYLIGHT
TZOFFSETFROM:+0100
TZOFFSETTO:+0200
TZNAME:CEST
DTSTART:19700329T020000
RRULE:FREQ=YEARLY;INTERVAL=1;BYDAY=-1SU;BYMONTH=3
END:DAYLIGHT
BEGIN:STANDARD
TZOFFSETFROM:+0200
TZOFFSETTO:+0100
TZNAME:CET
DTSTART:19701025T030000
RRULE:FREQ=YEARLY;INTERVAL=1;BYDAY=-1SU;BYMONTH=10
END:STANDARD
END:VTIMEZONE
BEGIN:VEVENT
UID:2e7efe335212be95118271b16546e3e8@gruene-saar.de
URL;VALUE=URI:https://gruene-saar.de/termine/veranstaltung-pflege-neu-den
 ken-mit-kordula-schulz-asche/
LOCATION:
SUMMARY:Veranstaltung: Pflege neu denken – mit Kordula Schulz-Asche
DESCRIPTION;ALTREP="data:text/html,%0A%3Cp%3EDie%20Grauen%20Gr%C3%BCnen%2
 0Saar%20laden%20herzlich%20ein%20zu%20einer%20Diskussionsveranstaltung%20
 mit%20Kordula%20Schulz-Asche%2C%20langj%C3%A4hrige%20Bundestagsabgeordnet
 e%20von%20B%C3%BCndnis%2090%2FDie%20Gr%C3%BCnen%20und%20Expertin%20f%C3%B
 Cr%20Pflegepolitik.%3C%2Fp%3E%0A%0A%0A%0A%3Cp%3ETermin%3A%20Donnerstag%2C
 %2010.%20Juli%202025%3C%2Fp%3E%0A%0A%0A%0A%3Cp%3EUhrzeit%3A%2017%3A00%20b
 is%20ca.%2019%3A00%20Uhr%3C%2Fp%3E%0A%0A%0A%0A%3Cp%3EOrt%3A%20Landesgesch
 %C3%A4ftsstelle%2C%20Bahnhofstr.%2036%20%28Eingang%20Dudweiler%20Stra%C3%
 9Fe%2C%202.%20Etage%29%2C%2066111%20Saarbr%C3%BCcken%3C%2Fp%3E%0A%0A%0A%0
 A%3Cp%3EWeitere%20Informationen%20und%20Anmeldung%20%3Ca%20href%3D%22http
 s%3A%2F%2Fgrauegruenesaar.de%2Fpflege-neu-denken-mit-kordula-schulz-asche
 %2F%22%3Ehier%3C%2Fa%3E.%3C%2Fp%3E%0A":Die Grauen Grünen Saar laden herz
 lich ein zu einer Diskussionsveranstaltung mit Kordula Schulz-Asche\, lan
 gjährige Bundestagsabgeordnete von Bündnis 90/Die Grünen und Expertin 
 für Pflegepolitik.\n\nTermin: Donnerstag\, 10. Juli 2025\n\nUhrzeit: 17:
 00 bis ca. 19:00 Uhr\n\nOrt: Landesgeschäftsstelle\, Bahnhofstr. 36 (Ein
 gang Dudweiler Straße\, 2. Etage)\, 66111 Saarbrücken\n\nWeitere Inform
 ationen und Anmeldung hier.
CLASS:PUBLIC
DTSTART;TZID=Europe/Berlin:20250710T170000
DTEND;TZID=Europe/Berlin:20250710T180000
DTSTAMP:20260421T100654
END:VEVENT
END:VCALENDAR