BEGIN:VCALENDAR
VERSION:2.0
PRODID:gruene-saar.de
METHOD:PUBLISH
BEGIN:VTIMEZONE
TZID:Europe/Berlin
X-LIC-LOCATION:Europe/Berlin
BEGIN:DAYLIGHT
TZOFFSETFROM:+0100
TZOFFSETTO:+0200
TZNAME:CEST
DTSTART:19700329T020000
RRULE:FREQ=YEARLY;INTERVAL=1;BYDAY=-1SU;BYMONTH=3
END:DAYLIGHT
BEGIN:STANDARD
TZOFFSETFROM:+0200
TZOFFSETTO:+0100
TZNAME:CET
DTSTART:19701025T030000
RRULE:FREQ=YEARLY;INTERVAL=1;BYDAY=-1SU;BYMONTH=10
END:STANDARD
END:VTIMEZONE
BEGIN:VEVENT
UID:5c58a37a55f6bcac96825d5efbdd795d@gruene-saar.de
URL;VALUE=URI:https://gruene-saar.de/termine/wahlkampfschulung-mit-harald
 -schwalbe-vom-bundesverband/
LOCATION:
SUMMARY:Workshop „Wahlkampfplanung von A-Z“ mit Harald Schwalbe vom B
 undesverband
DESCRIPTION;ALTREP="data:text/html,%0A%3Cp%3ETermin%3A%20Dienstag%2C%2016
 .%20Juni%202026%3Cbr%3EUhrzeit%3A%2018%3A00-21%3A00%20Uhr%3Cbr%3EOrt%3A%2
 0Online%3C%2Fp%3E%0A%0A%0A%0A%3Cp%3EDer%20Workshop%20ist%20f%C3%BCr%20die
 %20Planung%20und%20Vorbereitung%20des%20Wahlkampfs%20eine%20gute%20Grundl
 age.%20Dabei%20erfahrt%20ihr%2C%20was%20es%20f%C3%BCr%20einen%20erfolgrei
 chen%20Wahlkampf%20braucht%20bzw.%20bei%20eurer%20Vorbereitung%20vor%20Or
 t%20zu%20beachten%20ist.%20Der%20Workshop%20richtet%20sich%20insbesondere
 %20an%20Wahlkampfplaner%3Ainnen%20der%20KVe%2FOVe.%20Wie%20erreichen%20wi
 r%20wen%2C%20zur%20richtigen%20Zeit%2C%20%C3%BCber%20den%20richtigen%20Ka
 nal%20und%20mit%20der%20richtigen%20Botschaft%20und%20Ansprache%3F%20Weit
 erhin%20besch%C3%A4ftigen%20wir%20uns%20mit%20passenden%20Wahlkampfma%C3%
 9Fnahmen%20wie%20z.%20B.%20der%20direkten%20Ansprache%20von%20W%C3%A4hler
 %3Ainnen%20in%20Potenzialgebieten%20%28u.%20a.%20beim%20Haust%C3%BCrwahlk
 ampf%29%20sowie%20mit%20der%20Aktivierung%20von%20Mitgliedern%20und%20Fre
 iwilligen.%3C%2Fp%3E%0A%0A%0A%0A%3Cp%3E%3C%2Fp%3E%0A":Termin: Dienstag\, 
 16. Juni 2026Uhrzeit: 18:00-21:00 UhrOrt: Online\n\nDer Workshop ist für
  die Planung und Vorbereitung des Wahlkampfs eine gute Grundlage. Dabei e
 rfahrt ihr\, was es für einen erfolgreichen Wahlkampf braucht bzw. bei e
 urer Vorbereitung vor Ort zu beachten ist. Der Workshop richtet sich insb
 esondere an Wahlkampfplaner:innen der KVe/OVe. Wie erreichen wir wen\, zu
 r richtigen Zeit\, über den richtigen Kanal und mit der richtigen Botsch
 aft und Ansprache? Weiterhin beschäftigen wir uns mit passenden Wahlkamp
 fmaßnahmen wie z. B. der direkten Ansprache von Wähler:innen in Potenzi
 algebieten (u. a. beim Haustürwahlkampf) sowie mit der Aktivierung von M
 itgliedern und Freiwilligen.
CLASS:PUBLIC
DTSTART;TZID=Europe/Berlin:20260616T180000
DTEND;TZID=Europe/Berlin:20260616T190000
DTSTAMP:20260422T114924
END:VEVENT
END:VCALENDAR