BEGIN:VCALENDAR
VERSION:2.0
PRODID:gruene-saar.de
METHOD:PUBLISH
BEGIN:VTIMEZONE
TZID:Europe/Berlin
X-LIC-LOCATION:Europe/Berlin
BEGIN:DAYLIGHT
TZOFFSETFROM:+0100
TZOFFSETTO:+0200
TZNAME:CEST
DTSTART:19700329T020000
RRULE:FREQ=YEARLY;INTERVAL=1;BYDAY=-1SU;BYMONTH=3
END:DAYLIGHT
BEGIN:STANDARD
TZOFFSETFROM:+0200
TZOFFSETTO:+0100
TZNAME:CET
DTSTART:19701025T030000
RRULE:FREQ=YEARLY;INTERVAL=1;BYDAY=-1SU;BYMONTH=10
END:STANDARD
END:VTIMEZONE
BEGIN:VEVENT
UID:c2a3e466046d6060c014a8a1bc02f237@gruene-saar.de
URL;VALUE=URI:https://gruene-saar.de/termine/wahlparty/
LOCATION:Silo am Osthafen, An der Römerbrücke 5, 66121 Saarbrücken
SUMMARY:WAHLPARTY
DESCRIPTION;ALTREP="data:text/html,%0A%3Cp%3E%3Cstrong%3ELiebe%20Freundin
 nen%20und%20Freunde%2C%3C%2Fstrong%3E%3C%2Fp%3E%0A%3Cp%3Ewir%20haben%20ge
 meinsam%20gek%C3%A4mpft%2C%20diskutiert%20und%20uns%20engagiert%20%E2%80%
 93%20nun%20ist%20es%20Zeit%2C%20die%20Ergebnisse%20und%20unsere%20Arbeit%
 20zu%20feiern%21%20%26%23x1f389%3B%3C%2Fp%3E%0A%3Cp%3E%3Cstrong%3EWann%3A
 %3C%2Fstrong%3E%2023.%20Februar%202025%2C%20ab%2017%20Uhr%3Cbr%3E%3Cstron
 g%3EWo%3A%3C%2Fstrong%3E%20Silo%20am%20Osthafen%20%28An%20der%20R%C3%B6me
 rbr%C3%BCcke%205%2C%2066121%20Saarbr%C3%BCcken%29%3C%2Fp%3E%0A%3Cp%3EKomm
 t%20vorbei%2C%20um%20mit%20uns%20die%20Hochrechnungen%20zu%20verfolgen%2C
 %20spannende%20Gespr%C3%A4che%20zu%20f%C3%BChren%20und%20auf%20unsere%20g
 emeinsamen%20Erfolge%20anzusto%C3%9Fen.%20F%C3%BCr%20Essen%2C%20Getr%C3%A
 4nke%20und%20eine%20gute%20Stimmung%20ist%20gesorgt%21%3C%2Fp%3E%0A%3Cp%3
 EWir%20freuen%20uns%20auch%20euch%21%26nbsp%3B%3C%2Fp%3E%0A%3Cp%3E%26nbsp
 %3B%3C%2Fp%3E%0A%0A%0A%0A%3Cdiv%20style%3D%22height%3A40px%22%20aria-hidd
 en%3D%22true%22%20class%3D%22wp-block-spacer%22%3E%3C%2Fdiv%3E%0A%0A%0A%0
 A%3Cdiv%3E%3Cdiv%20class%3D%22ootb-openstreetmap--map%22%20data-provider%
 3D%22openstreetmap%22%20data-maptype%3D%22marker%22%20data-showmarkers%3D
 %22true%22%20data-shapestyle%3D%22%257B%2522fillColor%2522%253A%2522%2523
 008EFF%2522%252C%2522color%2522%253A%2522%2523008EFF%2522%252C%2522weight
 %2522%253A3%257D%22%20data-shapetext%3D%22%22%20data-markers%3D%22%255B%2
 57B%2522lat%2522%253A%252249.2232234%2522%252C%2522lng%2522%253A%25227.02
 34848%2522%252C%2522text%2522%253A%2522%253Cp%253ESektor%2520Heimat%252C%
 25205%252C%2520An%2520der%2520R%25C3%25B6merbr%25C3%25BCcke%252C%2520Kani
 nchenberg%252C%2520St.%2520Johann%252C%2520Bezirk%2520Mitte%252C%2520Saar
 br%25C3%25BCcken%252C%2520Regionalverband%2520Saarbr%25C3%25BCcken%252C%2
 520Saarland%252C%252066121%252C%2520Deutschland%253C%252Fp%253E%2522%252C
 %2522textRaw%2522%253A%2522Sektor%2520Heimat%252C%25205%252C%2520An%2520d
 er%2520R%25C3%25B6merbr%25C3%25BCcke%252C%2520Kaninchenberg%252C%2520St.%
 2520Johann%252C%2520Bezirk%2520Mitte%252C%2520Saarbr%25C3%25BCcken%252C%2
 520Regionalverband%2520Saarbr%25C3%25BCcken%252C%2520Saarland%252C%252066
 121%252C%2520Deutschland%2522%252C%2522id%2522%253A1740132392496%257D%255
 D%22%20data-bounds%3D%22%5B49.222575500000005%2C7.021610271269743%5D%22%2
 0data-zoom%3D%2216%22%20data-minzoom%3D%222%22%20data-maxzoom%3D%2218%22%
 20data-dragging%3D%22true%22%20data-touchzoom%3D%22true%22%20data-doublec
 lickzoom%3D%22true%22%20data-scrollwheelzoom%3D%22true%22%20data-marker%3
 D%22%257B%2522iconUrl%2522%253A%2522https%253A%252F%252Fgruene-saar.de%25
 2Fwp-content%252Fplugins%252Footb-openstreetmap%252Fassets%252Fvendor%252
 Fleaflet%252Fimages%252Fmarker-icon.png%2522%252C%2522iconAnchor%2522%253
 A%255B12%252C41%255D%252C%2522popupAnchor%2522%253A%255B0%252C-41%255D%25
 7D%22%20style%3D%22height%3A400px%22%3E%3C%2Fdiv%3E%3C%2Fdiv%3E%0A":Liebe
  Freundinnen und Freunde\,\n\nwir haben gemeinsam gekämpft\, diskutiert 
 und uns engagiert – nun ist es Zeit\, die Ergebnisse und unsere Arbeit 
 zu feiern! 🎉\n\nWann: 23. Februar 2025\, ab 17 UhrWo: Silo am Osthafen
  (An der Römerbrücke 5\, 66121 Saarbrücken)\n\nKommt vorbei\, um mit u
 ns die Hochrechnungen zu verfolgen\, spannende Gespräche zu führen und 
 auf unsere gemeinsamen Erfolge anzustoßen. Für Essen\, Getränke und ei
 ne gute Stimmung ist gesorgt!\n\nWir freuen uns auch euch! \n\n 
CLASS:PUBLIC
DTSTART;TZID=Europe/Berlin:20250223T170000
DTEND;TZID=Europe/Berlin:20250223T180000
DTSTAMP:20260421T134803
END:VEVENT
END:VCALENDAR