BEGIN:VCALENDAR
VERSION:2.0
PRODID:gruene-saar.de
METHOD:PUBLISH
BEGIN:VTIMEZONE
TZID:Europe/Berlin
X-LIC-LOCATION:Europe/Berlin
BEGIN:DAYLIGHT
TZOFFSETFROM:+0100
TZOFFSETTO:+0200
TZNAME:CEST
DTSTART:19700329T020000
RRULE:FREQ=YEARLY;INTERVAL=1;BYDAY=-1SU;BYMONTH=3
END:DAYLIGHT
BEGIN:STANDARD
TZOFFSETFROM:+0200
TZOFFSETTO:+0100
TZNAME:CET
DTSTART:19701025T030000
RRULE:FREQ=YEARLY;INTERVAL=1;BYDAY=-1SU;BYMONTH=10
END:STANDARD
END:VTIMEZONE
BEGIN:VEVENT
UID:4e6865ce41d68249da79385bed3f831c@gruene-saar.de
URL;VALUE=URI:https://gruene-saar.de/termine/waldwanderung-des-ov-merchwe
 iler-auf-dem-pingenpfad-itzenplitz/
LOCATION:
SUMMARY:Waldwanderung des OV Merchweiler auf dem Pingenpfad Itzenplitz
DESCRIPTION;ALTREP="data:text/html,%0A%3Cp%3ETermin%3A%20Sonntag%2C%2014.
 %20September%202025%20%3Cbr%3EUhrzeit%3A%2010%3A00%20Uhr%20%3Cbr%3EOrt%3A
 %20Parkplatz%20am%20Itzenplitzer%20Weiher%2C%20Itzenplitzstr.%2C%2066578%
 20Schiffweiler-Heiligenwald%3C%2Fp%3E%0A%0A%0A%0A%3Cp%3E%3C%2Fp%3E%0A":Te
 rmin: Sonntag\, 14. September 2025 Uhrzeit: 10:00 Uhr Ort: Parkplatz am I
 tzenplitzer Weiher\, Itzenplitzstr.\, 66578 Schiffweiler-Heiligenwald
CLASS:PUBLIC
DTSTART;TZID=Europe/Berlin:20250914T100000
DTEND;TZID=Europe/Berlin:20250914T110000
DTSTAMP:20260421T100650
END:VEVENT
END:VCALENDAR