BEGIN:VCALENDAR
VERSION:2.0
PRODID:gruene-saar.de
METHOD:PUBLISH
BEGIN:VTIMEZONE
TZID:Europe/Berlin
X-LIC-LOCATION:Europe/Berlin
BEGIN:DAYLIGHT
TZOFFSETFROM:+0100
TZOFFSETTO:+0200
TZNAME:CEST
DTSTART:19700329T020000
RRULE:FREQ=YEARLY;INTERVAL=1;BYDAY=-1SU;BYMONTH=3
END:DAYLIGHT
BEGIN:STANDARD
TZOFFSETFROM:+0200
TZOFFSETTO:+0100
TZNAME:CET
DTSTART:19701025T030000
RRULE:FREQ=YEARLY;INTERVAL=1;BYDAY=-1SU;BYMONTH=10
END:STANDARD
END:VTIMEZONE
BEGIN:VEVENT
UID:b0c87c8265eaf0370f1a2fbe5d775638@gruene-saar.de
URL;VALUE=URI:https://gruene-saar.de/termine/wut-ist-weiblich-ov-illingen
 /
LOCATION:
SUMMARY:Wut ist weiblich, OV Illingen
DESCRIPTION;ALTREP="data:text/html,%0A%3Cp%3ETermin%3A%20Sonntag%2C%202.%
 20November%202025%3Cbr%3EUhrzeit%3A%2010%3A00%20Uhr%3Cbr%3EOrt%3A%20Union
 %20Theater%2C%20Illingen%3C%2Fp%3E%0A%0A%0A%0A%3Cp%3EBei%20einem%20kleine
 n%20Sektfr%C3%BChst%C3%BCck%20schauen%20wir%20zun%C3%A4chst%20die%20Fotoa
 usstellung%20von%20Rosa%20Engel%20%22Wut%20ist%20weiblich%22%20und%20ansc
 hlie%C3%9Fend%20den%20Film%20%22Wut%20im%20Bauch%22.%3C%2Fp%3E%0A":Termin
 : Sonntag\, 2. November 2025Uhrzeit: 10:00 UhrOrt: Union Theater\, Illing
 en\n\nBei einem kleinen Sektfrühstück schauen wir zunächst die Fotoaus
 stellung von Rosa Engel "Wut ist weiblich" und anschließend den Film "Wu
 t im Bauch".
CLASS:PUBLIC
DTSTART;TZID=Europe/Berlin:20251102T100000
DTEND;TZID=Europe/Berlin:20251102T110000
DTSTAMP:20260421T114409
END:VEVENT
END:VCALENDAR